Package: schex Version: 1.21.0 Command: /home/biocbuild/R/R/bin/R CMD INSTALL schex StartedAt: 2025-01-29 19:43:30 -0000 (Wed, 29 Jan 2025) EndedAt: 2025-01-29 19:44:05 -0000 (Wed, 29 Jan 2025) EllapsedTime: 35.1 seconds RetCode: 0 Status: OK