Package: schex Version: 1.21.0 Command: /Library/Frameworks/R.framework/Resources/bin/R CMD INSTALL schex StartedAt: 2025-02-04 15:12:06 -0500 (Tue, 04 Feb 2025) EndedAt: 2025-02-04 15:12:44 -0500 (Tue, 04 Feb 2025) EllapsedTime: 37.9 seconds RetCode: 0 Status: OK