Package: schex Version: 1.21.0 Command: /home/biocbuild/bbs-3.21-bioc/R/bin/R CMD build --keep-empty-dirs --no-resave-data schex StartedAt: 2025-02-04 19:05:21 -0500 (Tue, 04 Feb 2025) EndedAt: 2025-02-04 19:07:10 -0500 (Tue, 04 Feb 2025) EllapsedTime: 108.1 seconds RetCode: 0 Status: OK PackageFile: schex_1.21.0.tar.gz PackageFileSize: 3.234 MiB