Package: schex Version: 1.21.0 Command: rm -rf schex.buildbin-libdir && mkdir schex.buildbin-libdir && E:\biocbuild\bbs-3.21-bioc\R\bin\R.exe CMD INSTALL --build --library=schex.buildbin-libdir schex_1.21.0.tar.gz StartedAt: 2025-02-05 08:51:29 -0500 (Wed, 05 Feb 2025) EndedAt: 2025-02-05 08:52:05 -0500 (Wed, 05 Feb 2025) EllapsedTime: 36.6 seconds RetCode: 0 Status: OK PackageFile: schex_1.21.0.zip PackageFileSize: 1.604 MiB