Package: schex Version: 1.21.0 Command: chmod a+r schex -R && E:\biocbuild\bbs-3.21-bioc\R\bin\R.exe CMD build --keep-empty-dirs --no-resave-data schex StartedAt: 2025-02-04 21:29:20 -0500 (Tue, 04 Feb 2025) EndedAt: 2025-02-04 21:33:27 -0500 (Tue, 04 Feb 2025) EllapsedTime: 246.6 seconds RetCode: 0 Status: OK PackageFile: schex_1.21.0.tar.gz PackageFileSize: 2.893 MiB