Package: schex Version: 1.21.0 Command: E:\biocbuild\bbs-3.21-bioc\R\bin\R.exe CMD check --no-multiarch --install=check:schex.install-out.txt --library=E:\biocbuild\bbs-3.21-bioc\R\library --no-vignettes --timings schex_1.21.0.tar.gz StartedAt: 2025-02-05 05:33:29 -0500 (Wed, 05 Feb 2025) EndedAt: 2025-02-05 05:41:16 -0500 (Wed, 05 Feb 2025) EllapsedTime: 467.2 seconds RetCode: 0 Status: OK CheckDir: schex.Rcheck Warnings: 0