Package: scider Version: 1.5.0 Command: rm -rf scider.buildbin-libdir && mkdir scider.buildbin-libdir && /Users/biocbuild/BBS/utils/build-universal.sh scider_1.5.0.tar.gz /Library/Frameworks/R.framework/Resources/bin/R scider.buildbin-libdir StartedAt: 2025-02-09 22:29:48 -0500 (Sun, 09 Feb 2025) EndedAt: 2025-02-09 22:30:00 -0500 (Sun, 09 Feb 2025) EllapsedTime: 12.3 seconds RetCode: 0 Status: OK PackageFile: scider_1.5.0.tgz PackageFileSize: 2.966 MiB