Package: scider Version: 1.5.0 Command: /Library/Frameworks/R.framework/Resources/bin/R CMD INSTALL scider StartedAt: 2025-02-09 15:26:08 -0500 (Sun, 09 Feb 2025) EndedAt: 2025-02-09 15:26:20 -0500 (Sun, 09 Feb 2025) EllapsedTime: 11.4 seconds RetCode: 0 Status: OK