Package: scider Version: 1.5.0 Command: /home/biocbuild/bbs-3.21-bioc/R/bin/R CMD INSTALL scider StartedAt: 2025-02-12 15:19:51 -0500 (Wed, 12 Feb 2025) EndedAt: 2025-02-12 15:20:18 -0500 (Wed, 12 Feb 2025) EllapsedTime: 26.6 seconds RetCode: 0 Status: OK