Package: scider Version: 1.5.0 Command: chmod a+r scider -R && E:\biocbuild\bbs-3.21-bioc\R\bin\R.exe CMD build --keep-empty-dirs --no-resave-data scider StartedAt: 2025-02-12 21:33:59 -0500 (Wed, 12 Feb 2025) EndedAt: 2025-02-12 21:36:06 -0500 (Wed, 12 Feb 2025) EllapsedTime: 126.9 seconds RetCode: 0 Status: OK PackageFile: scider_1.5.0.tar.gz PackageFileSize: 1.703 MiB