Package: scider Version: 1.5.0 Command: E:\biocbuild\bbs-3.21-bioc\R\bin\R.exe CMD check --no-multiarch --install=check:scider.install-out.txt --library=E:\biocbuild\bbs-3.21-bioc\R\library --no-vignettes --timings scider_1.5.0.tar.gz StartedAt: 2025-02-10 05:09:32 -0500 (Mon, 10 Feb 2025) EndedAt: 2025-02-10 05:17:16 -0500 (Mon, 10 Feb 2025) EllapsedTime: 464.8 seconds RetCode: 0 Status: OK CheckDir: scider.Rcheck Warnings: 0