Package: scifer Version: 1.9.0 Command: /Library/Frameworks/R.framework/Resources/bin/R CMD build --keep-empty-dirs --no-resave-data scifer StartedAt: 2025-02-03 18:08:06 -0500 (Mon, 03 Feb 2025) EndedAt: 2025-02-03 18:08:40 -0500 (Mon, 03 Feb 2025) EllapsedTime: 33.4 seconds RetCode: 0 Status: OK PackageFile: scifer_1.9.0.tar.gz PackageFileSize: 1.523 MiB