Package: scifer Version: 1.9.0 Command: /home/biocbuild/R/R/bin/R CMD check --install=check:scifer.install-out.txt --library=/home/biocbuild/R/R/site-library --no-vignettes --timings scifer_1.9.0.tar.gz StartedAt: 2025-01-28 15:02:10 -0000 (Tue, 28 Jan 2025) EndedAt: 2025-01-28 15:12:45 -0000 (Tue, 28 Jan 2025) EllapsedTime: 634.6 seconds RetCode: 0 Status: WARNINGS CheckDir: scifer.Rcheck Warnings: 5