Package: scifer Version: 1.9.0 Command: /Library/Frameworks/R.framework/Resources/bin/R CMD check --install=check:scifer.install-out.txt --library=/Library/Frameworks/R.framework/Resources/library --no-vignettes --timings scifer_1.9.0.tar.gz StartedAt: 2025-02-03 23:08:28 -0500 (Mon, 03 Feb 2025) EndedAt: 2025-02-03 23:17:11 -0500 (Mon, 03 Feb 2025) EllapsedTime: 523.0 seconds RetCode: 0 Status: OK CheckDir: scifer.Rcheck Warnings: 0