Package: scifer Version: 1.9.0 Command: /home/biocbuild/bbs-3.21-bioc/R/bin/R CMD build --keep-empty-dirs --no-resave-data scifer StartedAt: 2025-02-09 19:07:59 -0500 (Sun, 09 Feb 2025) EndedAt: 2025-02-09 19:09:52 -0500 (Sun, 09 Feb 2025) EllapsedTime: 112.2 seconds RetCode: 0 Status: OK PackageFile: scifer_1.9.0.tar.gz PackageFileSize: 1.503 MiB