Package: scifer Version: 1.9.0 Command: /home/biocbuild/bbs-3.21-bioc/R/bin/R CMD INSTALL scifer StartedAt: 2025-02-09 15:49:59 -0500 (Sun, 09 Feb 2025) EndedAt: 2025-02-09 15:50:14 -0500 (Sun, 09 Feb 2025) EllapsedTime: 15.4 seconds RetCode: 0 Status: OK