Package: scifer Version: 1.9.0 Command: rm -rf scifer.buildbin-libdir && mkdir scifer.buildbin-libdir && E:\biocbuild\bbs-3.21-bioc\R\bin\R.exe CMD INSTALL --build --library=scifer.buildbin-libdir scifer_1.9.0.tar.gz StartedAt: 2025-02-05 08:51:33 -0500 (Wed, 05 Feb 2025) EndedAt: 2025-02-05 08:52:07 -0500 (Wed, 05 Feb 2025) EllapsedTime: 33.4 seconds RetCode: 0 Status: OK PackageFile: scifer_1.9.0.zip PackageFileSize: 1.093 MiB