Package: scifer Version: 1.9.0 Command: chmod a+r scifer -R && E:\biocbuild\bbs-3.21-bioc\R\bin\R.exe CMD build --keep-empty-dirs --no-resave-data scifer StartedAt: 2025-02-04 21:29:43 -0500 (Tue, 04 Feb 2025) EndedAt: 2025-02-04 21:32:26 -0500 (Tue, 04 Feb 2025) EllapsedTime: 162.9 seconds RetCode: 0 Status: OK PackageFile: scifer_1.9.0.tar.gz PackageFileSize: 1.044 MiB