Package: scifer Version: 1.9.0 Command: E:\biocbuild\bbs-3.21-bioc\R\bin\R.exe CMD check --no-multiarch --install=check:scifer.install-out.txt --library=E:\biocbuild\bbs-3.21-bioc\R\library --no-vignettes --timings scifer_1.9.0.tar.gz StartedAt: 2025-02-05 05:34:16 -0500 (Wed, 05 Feb 2025) EndedAt: 2025-02-05 05:42:16 -0500 (Wed, 05 Feb 2025) EllapsedTime: 480.0 seconds RetCode: 0 Status: OK CheckDir: scifer.Rcheck Warnings: 0