Package: scifer Version: 1.9.0 Command: E:\biocbuild\bbs-3.21-bioc\R\bin\R.exe CMD INSTALL scifer StartedAt: 2025-02-04 15:58:22 -0500 (Tue, 04 Feb 2025) EndedAt: 2025-02-04 15:58:56 -0500 (Tue, 04 Feb 2025) EllapsedTime: 33.7 seconds RetCode: 0 Status: OK