Package: scmap Version: 1.29.0 Command: /Library/Frameworks/R.framework/Resources/bin/R CMD check --install=check:scmap.install-out.txt --library=/Library/Frameworks/R.framework/Resources/library --no-vignettes --timings scmap_1.29.0.tar.gz StartedAt: 2025-02-09 21:12:54 -0500 (Sun, 09 Feb 2025) EndedAt: 2025-02-09 21:14:03 -0500 (Sun, 09 Feb 2025) EllapsedTime: 68.8 seconds RetCode: 0 Status: OK CheckDir: scmap.Rcheck Warnings: 0