Package: scmap Version: 1.29.0 Command: /Library/Frameworks/R.framework/Resources/bin/R CMD INSTALL scmap StartedAt: 2025-02-09 15:05:44 -0500 (Sun, 09 Feb 2025) EndedAt: 2025-02-09 15:05:57 -0500 (Sun, 09 Feb 2025) EllapsedTime: 13.7 seconds RetCode: 0 Status: OK