Package: scmap Version: 1.29.0 Command: rm -rf scmap.buildbin-libdir && mkdir scmap.buildbin-libdir && /Users/biocbuild/BBS/utils/build-universal.sh scmap_1.29.0.tar.gz /Library/Frameworks/R.framework/Resources/bin/R scmap.buildbin-libdir StartedAt: 2025-02-10 01:15:04 -0500 (Mon, 10 Feb 2025) EndedAt: 2025-02-10 01:16:00 -0500 (Mon, 10 Feb 2025) EllapsedTime: 55.4 seconds RetCode: 0 Status: OK PackageFile: scmap_1.29.0.tgz PackageFileSize: 3.37 MiB