Package: scmap Version: 1.29.0 Command: /Library/Frameworks/R.framework/Resources/bin/R CMD build --keep-empty-dirs --no-resave-data scmap StartedAt: 2025-02-09 18:20:28 -0500 (Sun, 09 Feb 2025) EndedAt: 2025-02-09 18:22:04 -0500 (Sun, 09 Feb 2025) EllapsedTime: 95.3 seconds RetCode: 0 Status: OK PackageFile: scmap_1.29.0.tar.gz PackageFileSize: 2.252 MiB