Package: scmap Version: 1.29.0 Command: /Library/Frameworks/R.framework/Resources/bin/R CMD check --install=check:scmap.install-out.txt --library=/Library/Frameworks/R.framework/Resources/library --no-vignettes --timings scmap_1.29.0.tar.gz StartedAt: 2025-02-09 23:25:55 -0500 (Sun, 09 Feb 2025) EndedAt: 2025-02-09 23:29:23 -0500 (Sun, 09 Feb 2025) EllapsedTime: 208.1 seconds RetCode: 0 Status: OK CheckDir: scmap.Rcheck Warnings: 0