Package: scmap Version: 1.29.0 Command: /home/biocbuild/bbs-3.21-bioc/R/bin/R CMD build --keep-empty-dirs --no-resave-data scmap StartedAt: 2025-02-09 19:08:16 -0500 (Sun, 09 Feb 2025) EndedAt: 2025-02-09 19:09:26 -0500 (Sun, 09 Feb 2025) EllapsedTime: 69.2 seconds RetCode: 0 Status: OK PackageFile: scmap_1.29.0.tar.gz PackageFileSize: 2.235 MiB