Package: scmap Version: 1.29.0 Command: /home/biocbuild/bbs-3.21-bioc/R/bin/R CMD check --install=check:scmap.install-out.txt --library=/home/biocbuild/bbs-3.21-bioc/R/site-library --timings scmap_1.29.0.tar.gz StartedAt: 2025-02-10 02:21:44 -0500 (Mon, 10 Feb 2025) EndedAt: 2025-02-10 02:25:01 -0500 (Mon, 10 Feb 2025) EllapsedTime: 197.2 seconds RetCode: 0 Status: OK CheckDir: scmap.Rcheck Warnings: 0