Package: scmap Version: 1.29.0 Command: /home/biocbuild/bbs-3.21-bioc/R/bin/R CMD INSTALL scmap StartedAt: 2025-02-09 15:32:16 -0500 (Sun, 09 Feb 2025) EndedAt: 2025-02-09 15:32:55 -0500 (Sun, 09 Feb 2025) EllapsedTime: 38.7 seconds RetCode: 0 Status: OK