Package: scmap Version: 1.29.0 Command: rm -rf scmap.buildbin-libdir && mkdir scmap.buildbin-libdir && E:\biocbuild\bbs-3.21-bioc\R\bin\R.exe CMD INSTALL --build --library=scmap.buildbin-libdir scmap_1.29.0.tar.gz StartedAt: 2025-02-10 08:39:26 -0500 (Mon, 10 Feb 2025) EndedAt: 2025-02-10 08:40:23 -0500 (Mon, 10 Feb 2025) EllapsedTime: 57.2 seconds RetCode: 0 Status: OK PackageFile: scmap_1.29.0.zip PackageFileSize: 3.375 MiB