Package: scmap Version: 1.29.0 Command: E:\biocbuild\bbs-3.21-bioc\R\bin\R.exe CMD check --no-multiarch --install=check:scmap.install-out.txt --library=E:\biocbuild\bbs-3.21-bioc\R\library --no-vignettes --timings scmap_1.29.0.tar.gz StartedAt: 2025-02-10 05:09:47 -0500 (Mon, 10 Feb 2025) EndedAt: 2025-02-10 05:13:37 -0500 (Mon, 10 Feb 2025) EllapsedTime: 229.2 seconds RetCode: 0 Status: OK CheckDir: scmap.Rcheck Warnings: 0