Package: scmap Version: 1.29.0 Command: E:\biocbuild\bbs-3.21-bioc\R\bin\R.exe CMD INSTALL scmap StartedAt: 2025-02-09 16:18:41 -0500 (Sun, 09 Feb 2025) EndedAt: 2025-02-09 16:19:32 -0500 (Sun, 09 Feb 2025) EllapsedTime: 51.1 seconds RetCode: 0 Status: OK