Package: scmeth Version: 1.27.0 Command: /Library/Frameworks/R.framework/Resources/bin/R CMD build --keep-empty-dirs --no-resave-data scmeth StartedAt: 2025-02-09 17:32:20 -0500 (Sun, 09 Feb 2025) EndedAt: 2025-02-09 17:33:00 -0500 (Sun, 09 Feb 2025) EllapsedTime: 40.5 seconds RetCode: 0 Status: OK PackageFile: scmeth_1.27.0.tar.gz PackageFileSize: 776.5 KiB