Package: scmeth Version: 1.27.0 Command: rm -rf scmeth.buildbin-libdir && mkdir scmeth.buildbin-libdir && /Users/biocbuild/BBS/utils/build-universal.sh scmeth_1.27.0.tar.gz /Library/Frameworks/R.framework/Resources/bin/R scmeth.buildbin-libdir StartedAt: 2025-02-10 01:15:09 -0500 (Mon, 10 Feb 2025) EndedAt: 2025-02-10 01:16:13 -0500 (Mon, 10 Feb 2025) EllapsedTime: 64.7 seconds RetCode: 0 Status: OK PackageFile: scmeth_1.27.0.tgz PackageFileSize: 824.3 KiB