Package: scmeth Version: 1.27.0 Command: /Library/Frameworks/R.framework/Resources/bin/R CMD INSTALL scmeth StartedAt: 2025-02-09 15:23:53 -0500 (Sun, 09 Feb 2025) EndedAt: 2025-02-09 15:24:55 -0500 (Sun, 09 Feb 2025) EllapsedTime: 62.1 seconds RetCode: 0 Status: OK