Package: scmeth Version: 1.27.0 Command: /home/biocbuild/bbs-3.21-bioc/R/bin/R CMD build --keep-empty-dirs --no-resave-data scmeth StartedAt: 2025-02-09 19:08:54 -0500 (Sun, 09 Feb 2025) EndedAt: 2025-02-09 19:10:37 -0500 (Sun, 09 Feb 2025) EllapsedTime: 103.1 seconds RetCode: 0 Status: OK PackageFile: scmeth_1.27.0.tar.gz PackageFileSize: 769.3 KiB