Package: scmeth Version: 1.27.0 Command: rm -rf scmeth.buildbin-libdir && mkdir scmeth.buildbin-libdir && E:\biocbuild\bbs-3.21-bioc\R\bin\R.exe CMD INSTALL --build --library=scmeth.buildbin-libdir scmeth_1.27.0.tar.gz StartedAt: 2025-02-10 08:39:31 -0500 (Mon, 10 Feb 2025) EndedAt: 2025-02-10 08:40:36 -0500 (Mon, 10 Feb 2025) EllapsedTime: 64.9 seconds RetCode: 0 Status: OK PackageFile: scmeth_1.27.0.zip PackageFileSize: 781.6 KiB