Package: scmeth Version: 1.27.0 Command: chmod a+r scmeth -R && E:\biocbuild\bbs-3.21-bioc\R\bin\R.exe CMD build --keep-empty-dirs --no-resave-data scmeth StartedAt: 2025-02-09 21:28:12 -0500 (Sun, 09 Feb 2025) EndedAt: 2025-02-09 21:31:09 -0500 (Sun, 09 Feb 2025) EllapsedTime: 176.4 seconds RetCode: 0 Status: OK PackageFile: scmeth_1.27.0.tar.gz PackageFileSize: 740.5 KiB