Package: scoreInvHap Version: 1.29.0 Command: /Library/Frameworks/R.framework/Resources/bin/R CMD INSTALL scoreInvHap StartedAt: 2025-02-03 15:57:52 -0500 (Mon, 03 Feb 2025) EndedAt: 2025-02-03 15:58:08 -0500 (Mon, 03 Feb 2025) EllapsedTime: 16.6 seconds RetCode: 0 Status: OK