Package: scoreInvHap Version: 1.29.0 Command: /home/biocbuild/R/R/bin/R CMD INSTALL scoreInvHap StartedAt: 2025-01-29 20:22:59 -0000 (Wed, 29 Jan 2025) EndedAt: 2025-01-29 20:23:57 -0000 (Wed, 29 Jan 2025) EllapsedTime: 58.8 seconds RetCode: 0 Status: OK