Package: scoreInvHap Version: 1.29.0 Command: rm -rf scoreInvHap.buildbin-libdir && mkdir scoreInvHap.buildbin-libdir && /Users/biocbuild/BBS/utils/build-universal.sh scoreInvHap_1.29.0.tar.gz /Library/Frameworks/R.framework/Resources/bin/R scoreInvHap.buildbin-libdir StartedAt: 2025-02-04 00:55:21 -0500 (Tue, 04 Feb 2025) EndedAt: 2025-02-04 00:56:18 -0500 (Tue, 04 Feb 2025) EllapsedTime: 57.8 seconds RetCode: 0 Status: OK PackageFile: scoreInvHap_1.29.0.tgz PackageFileSize: 1.525 MiB