Package: scoreInvHap Version: 1.29.0 Command: /Library/Frameworks/R.framework/Resources/bin/R CMD build --keep-empty-dirs --no-resave-data scoreInvHap StartedAt: 2025-02-09 18:22:00 -0500 (Sun, 09 Feb 2025) EndedAt: 2025-02-09 18:23:29 -0500 (Sun, 09 Feb 2025) EllapsedTime: 88.9 seconds RetCode: 0 Status: OK PackageFile: scoreInvHap_1.29.0.tar.gz PackageFileSize: 1.036 MiB