Package: scoreInvHap Version: 1.29.0 Command: /home/biocbuild/bbs-3.21-bioc/R/bin/R CMD build --keep-empty-dirs --no-resave-data scoreInvHap StartedAt: 2025-02-03 19:18:21 -0500 (Mon, 03 Feb 2025) EndedAt: 2025-02-03 19:19:24 -0500 (Mon, 03 Feb 2025) EllapsedTime: 63.1 seconds RetCode: 0 Status: OK PackageFile: scoreInvHap_1.29.0.tar.gz PackageFileSize: 1.073 MiB