Package: scoreInvHap Version: 1.29.0 Command: /home/biocbuild/bbs-3.21-bioc/R/bin/R CMD INSTALL scoreInvHap StartedAt: 2025-02-09 15:39:45 -0500 (Sun, 09 Feb 2025) EndedAt: 2025-02-09 15:40:28 -0500 (Sun, 09 Feb 2025) EllapsedTime: 43.2 seconds RetCode: 0 Status: OK