Package: scoup Version: 1.1.4 Command: /Library/Frameworks/R.framework/Resources/bin/R CMD build --keep-empty-dirs --no-resave-data scoup StartedAt: 2025-02-09 17:32:48 -0500 (Sun, 09 Feb 2025) EndedAt: 2025-02-09 17:32:58 -0500 (Sun, 09 Feb 2025) EllapsedTime: 10.1 seconds RetCode: 0 Status: OK PackageFile: scoup_1.1.4.tar.gz PackageFileSize: 334.4 KiB