Package: scoup Version: 1.1.4 Command: /Library/Frameworks/R.framework/Resources/bin/R CMD check --install=check:scoup.install-out.txt --library=/Library/Frameworks/R.framework/Resources/library --no-vignettes --timings scoup_1.1.4.tar.gz StartedAt: 2025-02-09 21:14:28 -0500 (Sun, 09 Feb 2025) EndedAt: 2025-02-09 21:15:28 -0500 (Sun, 09 Feb 2025) EllapsedTime: 59.7 seconds RetCode: 0 Status: OK CheckDir: scoup.Rcheck Warnings: 0