Package: scoup Version: 1.1.4 Command: /home/biocbuild/R/R/bin/R CMD check --install=check:scoup.install-out.txt --library=/home/biocbuild/R/R/site-library --no-vignettes --timings scoup_1.1.4.tar.gz StartedAt: 2025-01-28 15:04:53 -0000 (Tue, 28 Jan 2025) EndedAt: 2025-01-28 15:09:12 -0000 (Tue, 28 Jan 2025) EllapsedTime: 259.2 seconds RetCode: 0 Status: OK CheckDir: scoup.Rcheck Warnings: 0