Package: scoup Version: 1.1.4 Command: rm -rf scoup.buildbin-libdir && mkdir scoup.buildbin-libdir && /Users/biocbuild/BBS/utils/build-universal.sh scoup_1.1.4.tar.gz /Library/Frameworks/R.framework/Resources/bin/R scoup.buildbin-libdir StartedAt: 2025-02-10 01:15:21 -0500 (Mon, 10 Feb 2025) EndedAt: 2025-02-10 01:15:43 -0500 (Mon, 10 Feb 2025) EllapsedTime: 22.0 seconds RetCode: 0 Status: OK PackageFile: scoup_1.1.4.tgz PackageFileSize: 627.6 KiB