Package: scoup Version: 1.1.4 Command: /Library/Frameworks/R.framework/Resources/bin/R CMD check --install=check:scoup.install-out.txt --library=/Library/Frameworks/R.framework/Resources/library --no-vignettes --timings scoup_1.1.4.tar.gz StartedAt: 2025-02-03 23:10:54 -0500 (Mon, 03 Feb 2025) EndedAt: 2025-02-03 23:13:53 -0500 (Mon, 03 Feb 2025) EllapsedTime: 178.6 seconds RetCode: 0 Status: OK CheckDir: scoup.Rcheck Warnings: 0