Package: scoup Version: 1.1.4 Command: rm -rf scoup.buildbin-libdir && mkdir scoup.buildbin-libdir && E:\biocbuild\bbs-3.21-bioc\R\bin\R.exe CMD INSTALL --build --library=scoup.buildbin-libdir scoup_1.1.4.tar.gz StartedAt: 2025-02-13 08:50:30 -0500 (Thu, 13 Feb 2025) EndedAt: 2025-02-13 08:51:14 -0500 (Thu, 13 Feb 2025) EllapsedTime: 43.8 seconds RetCode: 0 Status: OK PackageFile: scoup_1.1.4.zip PackageFileSize: 633.6 KiB