Package: scoup Version: 1.1.4 Command: E:\biocbuild\bbs-3.21-bioc\R\bin\R.exe CMD INSTALL scoup StartedAt: 2025-02-12 15:41:42 -0500 (Wed, 12 Feb 2025) EndedAt: 2025-02-12 15:42:22 -0500 (Wed, 12 Feb 2025) EllapsedTime: 39.4 seconds RetCode: 0 Status: OK